BEGIN:VCALENDAR
VERSION:2.0
CALSCALE:GREGORIAN
METHOD:PUBLISH
PRODID://TABS//509697
BEGIN:VEVENT
DTSTAMP:20260421T225121
VTIMEZONE:America/New_York
DTSTART:20260126T190000Z
DTEND:20260126T200000Z
UID:509697
SUMMARY:History & Continuity Committee
LOCATION:
DESCRIPTION:History & Continuity Committee\n\n01/26/26 02:00 PM EST\n - 01/26/26 03:00 PM EST\Description:\nThe History & Continuity Committee meets on the 4th Monday of odd months at 2pm Eastern.
X-ALT-DESC;FMTTYPE=text/html:History & Continuity Committee<br /><br />01/26/26 02:00 PM EST - 01/26/26 03:00 PM EST<br />Description:<br />The History &amp; Continuity Committee meets on the 4th Monday of odd months at 2pm Eastern.
PRIORITY:3
TRANSP:TRANSPARENT
BEGIN:VALARM
TRIGGER:-PT5M
ACTION:DISPLAY
DESCRIPTION:Reminder
END:VALARM
END:VEVENT
END:VCALENDAR
