BEGIN:VCALENDAR
VERSION:2.0
CALSCALE:GREGORIAN
METHOD:PUBLISH
PRODID://TABS//490101
BEGIN:VEVENT
DTSTAMP:20260421T185400
VTIMEZONE:America/New_York
DTSTART:20260423T200000Z
DTEND:20260423T210000Z
UID:490101
SUMMARY:Balint Leaders Drop-in Discussion
LOCATION:
DESCRIPTION:Balint Leaders Drop-in Discussion\n\n04/23/26 04:00 PM EST\n - 04/23/26 05:00 PM EST\Description:\nConnect with fellow Balint leaders for a facilitated, interactive conversation focused on the real-world challenges of Balint group leadership. Together, we’ll explore questions around group structure, growth, and development—within a supportive and confidential space.\n\nWho’s welcome? All non-credentialed leaders of Balint groups—whether new to the role or seasoned—are warmly invited.\nFacilitators: Terri Wall & Phil Phelps\nTime: April 23, 2026 at 04:00 PM Eastern Time (US and Canada)
X-ALT-DESC;FMTTYPE=text/html:Balint Leaders Drop-in Discussion<br /><br />04/23/26 04:00 PM EST - 04/23/26 05:00 PM EST<br />Description:<br /><span style="font-family:tahoma,geneva,sans-serif"><span style="font-size:14px">Connect with fellow Balint leaders for a facilitated, interactive conversation focused on the real-world challenges of Balint group leadership. Together, we&rsquo;ll explore questions around group structure, growth, and development&mdash;within a supportive and confidential space.<br />
<br />
Who&rsquo;s welcome? All <strong>non-credentialed</strong> leaders of Balint groups&mdash;whether new to the role or seasoned&mdash;are warmly invited.<br />
Facilitators: Terri Wall &amp; Phil Phelps<br />
Time: April 23, 2026 at 04:00 PM Eastern Time (US and Canada)</span></span>
PRIORITY:3
TRANSP:TRANSPARENT
BEGIN:VALARM
TRIGGER:-PT5M
ACTION:DISPLAY
DESCRIPTION:Reminder
END:VALARM
END:VEVENT
END:VCALENDAR
