BEGIN:VCALENDAR
VERSION:2.0
CALSCALE:GREGORIAN
METHOD:PUBLISH
PRODID://TABS//473253
BEGIN:VEVENT
DTSTAMP:20260421T185629
VTIMEZONE:America/New_York
DTSTART:20260918T180000Z
DTEND:20260918T190000Z
UID:473253
SUMMARY:Balint Groups Online Committee
LOCATION:
DESCRIPTION:Balint Groups Online Committee\n\n09/18/26 02:00 PM EST\n - 09/18/26 03:00 PM EST\Description:\nThis committee typically meets monthly on the third Friday at 2pm Eastern/11am Pacific. 
X-ALT-DESC;FMTTYPE=text/html:Balint Groups Online Committee<br /><br />09/18/26 02:00 PM EST - 09/18/26 03:00 PM EST<br />Description:<br />This committee typically meets monthly on the third Friday at 2pm Eastern/11am Pacific.&nbsp;
PRIORITY:3
TRANSP:TRANSPARENT
BEGIN:VALARM
TRIGGER:-PT5M
ACTION:DISPLAY
DESCRIPTION:Reminder
END:VALARM
END:VEVENT
END:VCALENDAR
