BEGIN:VCALENDAR
VERSION:2.0
CALSCALE:GREGORIAN
METHOD:PUBLISH
PRODID://TABS//473246
BEGIN:VEVENT
DTSTAMP:20260421T185501
VTIMEZONE:America/New_York
DTSTART:20260220T190000Z
DTEND:20260220T200000Z
UID:473246
SUMMARY:Balint Groups Online Committee
LOCATION:
DESCRIPTION:Balint Groups Online Committee\n\n02/20/26 02:00 PM EST\n - 02/20/26 03:00 PM EST\Description:\nThis committee typically meets monthly on the third Friday at 2pm Eastern/11am Pacific. 
X-ALT-DESC;FMTTYPE=text/html:Balint Groups Online Committee<br /><br />02/20/26 02:00 PM EST - 02/20/26 03:00 PM EST<br />Description:<br />This committee typically meets monthly on the third Friday at 2pm Eastern/11am Pacific.&nbsp;
PRIORITY:3
TRANSP:TRANSPARENT
BEGIN:VALARM
TRIGGER:-PT5M
ACTION:DISPLAY
DESCRIPTION:Reminder
END:VALARM
END:VEVENT
END:VCALENDAR
