BEGIN:VCALENDAR
VERSION:2.0
CALSCALE:GREGORIAN
METHOD:PUBLISH
PRODID://TABS//473242
BEGIN:VEVENT
DTSTAMP:20260421T185401
VTIMEZONE:America/New_York
DTSTART:20260925T160000Z
DTEND:20260925T170000Z
UID:473242
SUMMARY:Diversity Committee
LOCATION:
DESCRIPTION:Diversity Committee\n\n09/25/26 12:00 PM EST\n - 09/25/26 01:00 PM EST\Description:\nThis committee meets the fourth Friday of each month at noon Eastern/9am Pacific.
X-ALT-DESC;FMTTYPE=text/html:Diversity Committee<br /><br />09/25/26 12:00 PM EST - 09/25/26 01:00 PM EST<br />Description:<br />This committee meets the fourth Friday of each month at noon Eastern/9am Pacific.
PRIORITY:3
TRANSP:TRANSPARENT
BEGIN:VALARM
TRIGGER:-PT5M
ACTION:DISPLAY
DESCRIPTION:Reminder
END:VALARM
END:VEVENT
END:VCALENDAR
