BEGIN:VCALENDAR
VERSION:2.0
CALSCALE:GREGORIAN
METHOD:PUBLISH
PRODID://TABS//473241
BEGIN:VEVENT
DTSTAMP:20260421T185517
VTIMEZONE:America/New_York
DTSTART:20260828T160000Z
DTEND:20260828T170000Z
UID:473241
SUMMARY:Diversity Committee
LOCATION:
DESCRIPTION:Diversity Committee\n\n08/28/26 12:00 PM EST\n - 08/28/26 01:00 PM EST\Description:\nThis committee meets the fourth Friday of each month at noon Eastern/9am Pacific.
X-ALT-DESC;FMTTYPE=text/html:Diversity Committee<br /><br />08/28/26 12:00 PM EST - 08/28/26 01:00 PM EST<br />Description:<br />This committee meets the fourth Friday of each month at noon Eastern/9am Pacific.
PRIORITY:3
TRANSP:TRANSPARENT
BEGIN:VALARM
TRIGGER:-PT5M
ACTION:DISPLAY
DESCRIPTION:Reminder
END:VALARM
END:VEVENT
END:VCALENDAR
