BEGIN:VCALENDAR
VERSION:2.0
CALSCALE:GREGORIAN
METHOD:PUBLISH
PRODID://TABS//473227
BEGIN:VEVENT
DTSTAMP:20260421T185339
VTIMEZONE:America/New_York
DTSTART:20260327T000000Z
DTEND:20260327T010000Z
UID:473227
SUMMARY:Consultation Group for ABS Credentialed Leaders
LOCATION:
DESCRIPTION:Consultation Group for ABS Credentialed Leaders\n\n03/26/26 08:00 PM EST\n - 03/26/26 09:00 PM EST\Description:\nThis drop-in series is for ABS Credentialed Leaders and is sponsored by the History and Continuity Committee with Arnold Goldberg as the facilitator. It generally meets the 4th Thursday of odd months. Attendance qualifies as a Maintenance of Credentialing activity. \n\nReminders and the Zoom link are available on the Credentialed Leaders message board. 
X-ALT-DESC;FMTTYPE=text/html:Consultation Group for ABS Credentialed Leaders<br /><br />03/26/26 08:00 PM EST - 03/26/26 09:00 PM EST<br />Description:<br />This drop-in series is for ABS Credentialed Leaders and is sponsored by the History and Continuity Committee with Arnold Goldberg as the facilitator. It generally meets the 4th Thursday of odd months. Attendance qualifies as a Maintenance of Credentialing activity.&nbsp;<br />
<br />
Reminders and the Zoom link are available on the Credentialed Leaders message board.&nbsp;
PRIORITY:3
TRANSP:TRANSPARENT
BEGIN:VALARM
TRIGGER:-PT5M
ACTION:DISPLAY
DESCRIPTION:Reminder
END:VALARM
END:VEVENT
END:VCALENDAR
