BEGIN:VCALENDAR
VERSION:2.0
CALSCALE:GREGORIAN
METHOD:PUBLISH
PRODID://TABS//472315
BEGIN:VEVENT
DTSTAMP:20260422T021744
VTIMEZONE:America/New_York
DTSTART:20250124T170000Z
DTEND:20250124T180000Z
UID:472315
SUMMARY:Diversity Committee
LOCATION:
DESCRIPTION:Diversity Committee\n\n01/24/25 12:00 PM EST\n - 01/24/25 01:00 PM EST\Description:\nThis committee meets the fourth Friday of each month at noon Eastern/9am Pacific.
X-ALT-DESC;FMTTYPE=text/html:Diversity Committee<br /><br />01/24/25 12:00 PM EST - 01/24/25 01:00 PM EST<br />Description:<br />This committee meets the fourth Friday of each month at noon Eastern/9am Pacific.
PRIORITY:3
TRANSP:TRANSPARENT
BEGIN:VALARM
TRIGGER:-PT5M
ACTION:DISPLAY
DESCRIPTION:Reminder
END:VALARM
END:VEVENT
END:VCALENDAR
