BEGIN:VCALENDAR
VERSION:2.0
CALSCALE:GREGORIAN
METHOD:PUBLISH
PRODID://TABS//471644
BEGIN:VEVENT
DTSTAMP:20260421T185359
VTIMEZONE:America/New_York
DTSTART:20260422T190000Z
DTEND:20260422T200000Z
UID:471644
SUMMARY:MetaSupervision Group Consultation
LOCATION:
DESCRIPTION:MetaSupervision Group Consultation\n\n04/22/26 03:00 PM EST\n - 04/22/26 04:00 PM EST\Description:\nThis consultation for supervisors is provided by the CCC - this is a rescheduling of the December 2024 meeting. 
X-ALT-DESC;FMTTYPE=text/html:MetaSupervision Group Consultation<br /><br />04/22/26 03:00 PM EST - 04/22/26 04:00 PM EST<br />Description:<br />This consultation for supervisors is provided by the CCC - this is a rescheduling of the December 2024 meeting.&nbsp;
PRIORITY:3
TRANSP:TRANSPARENT
BEGIN:VALARM
TRIGGER:-PT5M
ACTION:DISPLAY
DESCRIPTION:Reminder
END:VALARM
END:VEVENT
END:VCALENDAR
