BEGIN:VCALENDAR
VERSION:2.0
CALSCALE:GREGORIAN
METHOD:PUBLISH
PRODID://TABS//471641
BEGIN:VEVENT
DTSTAMP:20260421T190935
VTIMEZONE:America/New_York
DTSTART:20251022T190000Z
DTEND:20251022T200000Z
UID:471641
SUMMARY:MetaSupervision Group Consultation
LOCATION:
DESCRIPTION:MetaSupervision Group Consultation\n\n10/22/25 03:00 PM EST\n - 10/22/25 04:00 PM EST\Description:\nThis consultation for supervisors is provided by the CCC and meets on the fourth Wednesday of even months at 3pm ET.
X-ALT-DESC;FMTTYPE=text/html:MetaSupervision Group Consultation<br /><br />10/22/25 03:00 PM EST - 10/22/25 04:00 PM EST<br />Description:<br />This consultation for supervisors is provided by the CCC and meets on the fourth Wednesday of even months at 3pm ET.
PRIORITY:3
TRANSP:TRANSPARENT
BEGIN:VALARM
TRIGGER:-PT5M
ACTION:DISPLAY
DESCRIPTION:Reminder
END:VALARM
END:VEVENT
END:VCALENDAR
