BEGIN:VCALENDAR
VERSION:2.0
CALSCALE:GREGORIAN
METHOD:PUBLISH
PRODID://TABS//471638
BEGIN:VEVENT
DTSTAMP:20260421T191006
VTIMEZONE:America/New_York
DTSTART:20250423T190000Z
DTEND:20250423T200000Z
UID:471638
SUMMARY:MetaSupervision Group Consultation
LOCATION:
DESCRIPTION:MetaSupervision Group Consultation\n\n04/23/25 03:00 PM EST\n - 04/23/25 04:00 PM EST\Description:\nThis consultation for supervisors is provided by the CCC and meets on the fourth Wednesday of even months at 3pm ET.
X-ALT-DESC;FMTTYPE=text/html:MetaSupervision Group Consultation<br /><br />04/23/25 03:00 PM EST - 04/23/25 04:00 PM EST<br />Description:<br />This consultation for supervisors is provided by the CCC and meets on the fourth Wednesday of even months at 3pm ET.
PRIORITY:3
TRANSP:TRANSPARENT
BEGIN:VALARM
TRIGGER:-PT5M
ACTION:DISPLAY
DESCRIPTION:Reminder
END:VALARM
END:VEVENT
END:VCALENDAR
