BEGIN:VCALENDAR
VERSION:2.0
CALSCALE:GREGORIAN
METHOD:PUBLISH
PRODID://TABS//471162
BEGIN:VEVENT
DTSTAMP:20260421T185703
VTIMEZONE:America/New_York
DTSTART:20260202T180000Z
DTEND:20260202T190000Z
UID:471162
SUMMARY:2027 National Meeting Planning Committee
LOCATION:
DESCRIPTION:2027 National Meeting Planning Committee\n\n02/02/26 01:00 PM EST\n - 02/02/26 02:00 PM EST\Description:\nThis ad-hoc committee meets monthly on the firs Monday at 1pm Eastern.
X-ALT-DESC;FMTTYPE=text/html:2027 National Meeting Planning Committee<br /><br />02/02/26 01:00 PM EST - 02/02/26 02:00 PM EST<br />Description:<br />This ad-hoc committee meets monthly on the firs Monday at 1pm Eastern.
PRIORITY:3
TRANSP:TRANSPARENT
BEGIN:VALARM
TRIGGER:-PT5M
ACTION:DISPLAY
DESCRIPTION:Reminder
END:VALARM
END:VEVENT
END:VCALENDAR
