BEGIN:VCALENDAR
VERSION:2.0
CALSCALE:GREGORIAN
METHOD:PUBLISH
PRODID://TABS//471150
BEGIN:VEVENT
DTSTAMP:20260421T185829
VTIMEZONE:America/New_York
DTSTART:20260216T190000Z
DTEND:20260216T200000Z
UID:471150
SUMMARY:Committee on Intensives Meeting
LOCATION:
DESCRIPTION:Committee on Intensives Meeting\n\n02/16/26 02:00 PM EST\n - 02/16/26 03:00 PM EST\Description:\nThis committee meets on the third Monday each month at 2pm Eastern.
X-ALT-DESC;FMTTYPE=text/html:Committee on Intensives Meeting<br /><br />02/16/26 02:00 PM EST - 02/16/26 03:00 PM EST<br />Description:<br />This committee meets on the third Monday each month at 2pm Eastern.
PRIORITY:3
TRANSP:TRANSPARENT
BEGIN:VALARM
TRIGGER:-PT5M
ACTION:DISPLAY
DESCRIPTION:Reminder
END:VALARM
END:VEVENT
END:VCALENDAR
