BEGIN:VCALENDAR
VERSION:2.0
CALSCALE:GREGORIAN
METHOD:PUBLISH
PRODID://TABS//471140
BEGIN:VEVENT
DTSTAMP:20260421T185830
VTIMEZONE:America/New_York
DTSTART:20260501T180000Z
DTEND:20260501T190000Z
UID:471140
SUMMARY:Credentialing Coordinating Committee
LOCATION:
DESCRIPTION:Credentialing Coordinating Committee\n\n05/01/26 02:00 PM EST\n - 05/01/26 03:00 PM EST\Description:\nThe CCC meets monthly on the first Friday at 2pm Eastern.
X-ALT-DESC;FMTTYPE=text/html:Credentialing Coordinating Committee<br /><br />05/01/26 02:00 PM EST - 05/01/26 03:00 PM EST<br />Description:<br />The CCC meets monthly on the first Friday at 2pm Eastern.
PRIORITY:3
TRANSP:TRANSPARENT
BEGIN:VALARM
TRIGGER:-PT5M
ACTION:DISPLAY
DESCRIPTION:Reminder
END:VALARM
END:VEVENT
END:VCALENDAR
