BEGIN:VCALENDAR
VERSION:2.0
CALSCALE:GREGORIAN
METHOD:PUBLISH
PRODID://TABS//471129
BEGIN:VEVENT
DTSTAMP:20260421T201450
VTIMEZONE:America/New_York
DTSTART:20260619T193000Z
DTEND:20260619T203000Z
UID:471129
SUMMARY:Scholarly Activity Committee
LOCATION:
DESCRIPTION:Scholarly Activity Committee\n\n06/19/26 03:30 PM EST\n - 06/19/26 04:30 PM EST\Description:\nThis committee meets monthly on the 3rd Friday at 3:30pm Eastern. 
X-ALT-DESC;FMTTYPE=text/html:Scholarly Activity Committee<br /><br />06/19/26 03:30 PM EST - 06/19/26 04:30 PM EST<br />Description:<br />This committee meets monthly on the 3rd Friday at 3:30pm Eastern.&nbsp;
PRIORITY:3
TRANSP:TRANSPARENT
BEGIN:VALARM
TRIGGER:-PT5M
ACTION:DISPLAY
DESCRIPTION:Reminder
END:VALARM
END:VEVENT
END:VCALENDAR
