BEGIN:VCALENDAR
VERSION:2.0
CALSCALE:GREGORIAN
METHOD:PUBLISH
PRODID://TABS//471125
BEGIN:VEVENT
DTSTAMP:20260421T185339
VTIMEZONE:America/New_York
DTSTART:20260220T203000Z
DTEND:20260220T213000Z
UID:471125
SUMMARY:Scholarly Activity Committee
LOCATION:
DESCRIPTION:Scholarly Activity Committee\n\n02/20/26 03:30 PM EST\n - 02/20/26 04:30 PM EST\Description:\nThis committee meets monthly on the 3rd Friday at 3:30pm Eastern. 
X-ALT-DESC;FMTTYPE=text/html:Scholarly Activity Committee<br /><br />02/20/26 03:30 PM EST - 02/20/26 04:30 PM EST<br />Description:<br />This committee meets monthly on the 3rd Friday at 3:30pm Eastern.&nbsp;
PRIORITY:3
TRANSP:TRANSPARENT
BEGIN:VALARM
TRIGGER:-PT5M
ACTION:DISPLAY
DESCRIPTION:Reminder
END:VALARM
END:VEVENT
END:VCALENDAR
