BEGIN:VCALENDAR
VERSION:2.0
CALSCALE:GREGORIAN
METHOD:PUBLISH
PRODID://TABS//471124
BEGIN:VEVENT
DTSTAMP:20260421T185501
VTIMEZONE:America/New_York
DTSTART:20260116T203000Z
DTEND:20260116T213000Z
UID:471124
SUMMARY:Scholarly Activity Committee
LOCATION:
DESCRIPTION:Scholarly Activity Committee\n\n01/16/26 03:30 PM EST\n - 01/16/26 04:30 PM EST\Description:\nThis committee meets monthly on the 3rd Friday at 3:30pm Eastern. 
X-ALT-DESC;FMTTYPE=text/html:Scholarly Activity Committee<br /><br />01/16/26 03:30 PM EST - 01/16/26 04:30 PM EST<br />Description:<br />This committee meets monthly on the 3rd Friday at 3:30pm Eastern.&nbsp;
PRIORITY:3
TRANSP:TRANSPARENT
BEGIN:VALARM
TRIGGER:-PT5M
ACTION:DISPLAY
DESCRIPTION:Reminder
END:VALARM
END:VEVENT
END:VCALENDAR
