BEGIN:VCALENDAR
VERSION:2.0
CALSCALE:GREGORIAN
METHOD:PUBLISH
PRODID://TABS//471123
BEGIN:VEVENT
DTSTAMP:20260421T185317
VTIMEZONE:America/New_York
DTSTART:20261211T200000Z
DTEND:20261211T210000Z
UID:471123
SUMMARY:Communications & Marketing Committee
LOCATION:
DESCRIPTION:Communications & Marketing Committee\n\n12/11/26 03:00 PM EST\n - 12/11/26 04:00 PM EST\Description:\nThis committee meets on the second Friday of even months at 3pm Eastern/noon Pacific.
X-ALT-DESC;FMTTYPE=text/html:Communications & Marketing Committee<br /><br />12/11/26 03:00 PM EST - 12/11/26 04:00 PM EST<br />Description:<br />This committee meets on the second Friday of even months at 3pm Eastern/noon Pacific.
PRIORITY:3
TRANSP:TRANSPARENT
BEGIN:VALARM
TRIGGER:-PT5M
ACTION:DISPLAY
DESCRIPTION:Reminder
END:VALARM
END:VEVENT
END:VCALENDAR
