BEGIN:VCALENDAR
VERSION:2.0
CALSCALE:GREGORIAN
METHOD:PUBLISH
PRODID://TABS//471122
BEGIN:VEVENT
DTSTAMP:20260421T185333
VTIMEZONE:America/New_York
DTSTART:20261009T190000Z
DTEND:20261009T200000Z
UID:471122
SUMMARY:Communications & Marketing Committee
LOCATION:
DESCRIPTION:Communications & Marketing Committee\n\n10/09/26 03:00 PM EST\n - 10/09/26 04:00 PM EST\Description:\nThis committee meets on the second Friday of even months at 3pm Eastern/noon Pacific.
X-ALT-DESC;FMTTYPE=text/html:Communications & Marketing Committee<br /><br />10/09/26 03:00 PM EST - 10/09/26 04:00 PM EST<br />Description:<br />This committee meets on the second Friday of even months at 3pm Eastern/noon Pacific.
PRIORITY:3
TRANSP:TRANSPARENT
BEGIN:VALARM
TRIGGER:-PT5M
ACTION:DISPLAY
DESCRIPTION:Reminder
END:VALARM
END:VEVENT
END:VCALENDAR
