BEGIN:VCALENDAR
VERSION:2.0
CALSCALE:GREGORIAN
METHOD:PUBLISH
PRODID://TABS//470307
BEGIN:VEVENT
DTSTAMP:20260421T212944
VTIMEZONE:America/New_York
DTSTART:20261109T190000Z
DTEND:20261109T200000Z
UID:470307
SUMMARY:Council Meeting
LOCATION:
DESCRIPTION:Council Meeting\n\n11/09/26 02:00 PM EST\n - 11/09/26 03:00 PM EST\Description:\nABS Council meets the second Monday of each month at 2pm Eastern.
X-ALT-DESC;FMTTYPE=text/html:Council Meeting<br /><br />11/09/26 02:00 PM EST - 11/09/26 03:00 PM EST<br />Description:<br />ABS Council meets the second Monday of each month at 2pm Eastern.
PRIORITY:3
TRANSP:TRANSPARENT
BEGIN:VALARM
TRIGGER:-PT5M
ACTION:DISPLAY
DESCRIPTION:Reminder
END:VALARM
END:VEVENT
END:VCALENDAR
