BEGIN:VCALENDAR
VERSION:2.0
CALSCALE:GREGORIAN
METHOD:PUBLISH
PRODID://TABS//470305
BEGIN:VEVENT
DTSTAMP:20260421T213025
VTIMEZONE:America/New_York
DTSTART:20260914T180000Z
DTEND:20260914T190000Z
UID:470305
SUMMARY:Council Meeting
LOCATION:
DESCRIPTION:Council Meeting\n\n09/14/26 02:00 PM EST\n - 09/14/26 03:00 PM EST\Description:\nABS Council meets the second Monday of each month at 2pm Eastern.
X-ALT-DESC;FMTTYPE=text/html:Council Meeting<br /><br />09/14/26 02:00 PM EST - 09/14/26 03:00 PM EST<br />Description:<br />ABS Council meets the second Monday of each month at 2pm Eastern.
PRIORITY:3
TRANSP:TRANSPARENT
BEGIN:VALARM
TRIGGER:-PT5M
ACTION:DISPLAY
DESCRIPTION:Reminder
END:VALARM
END:VEVENT
END:VCALENDAR
