BEGIN:VCALENDAR
VERSION:2.0
CALSCALE:GREGORIAN
METHOD:PUBLISH
PRODID://TABS//470300
BEGIN:VEVENT
DTSTAMP:20260421T224826
VTIMEZONE:America/New_York
DTSTART:20260309T180000Z
DTEND:20260309T190000Z
UID:470300
SUMMARY:Council Meeting
LOCATION:
DESCRIPTION:Council Meeting\n\n03/09/26 02:00 PM EST\n - 03/09/26 03:00 PM EST\Description:\nABS Council meets the second Monday of each month at 2pm Eastern.
X-ALT-DESC;FMTTYPE=text/html:Council Meeting<br /><br />03/09/26 02:00 PM EST - 03/09/26 03:00 PM EST<br />Description:<br />ABS Council meets the second Monday of each month at 2pm Eastern.
PRIORITY:3
TRANSP:TRANSPARENT
BEGIN:VALARM
TRIGGER:-PT5M
ACTION:DISPLAY
DESCRIPTION:Reminder
END:VALARM
END:VEVENT
END:VCALENDAR
