BEGIN:VCALENDAR
VERSION:2.0
CALSCALE:GREGORIAN
METHOD:PUBLISH
PRODID://TABS//470298
BEGIN:VEVENT
DTSTAMP:20260421T201358
VTIMEZONE:America/New_York
DTSTART:20260112T190000Z
DTEND:20260112T200000Z
UID:470298
SUMMARY:Council Meeting
LOCATION:
DESCRIPTION:Council Meeting\n\n01/12/26 02:00 PM EST\n - 01/12/26 03:00 PM EST\Description:\nABS Council meets the second Monday of each month at 2pm Eastern.
X-ALT-DESC;FMTTYPE=text/html:Council Meeting<br /><br />01/12/26 02:00 PM EST - 01/12/26 03:00 PM EST<br />Description:<br />ABS Council meets the second Monday of each month at 2pm Eastern.
PRIORITY:3
TRANSP:TRANSPARENT
BEGIN:VALARM
TRIGGER:-PT5M
ACTION:DISPLAY
DESCRIPTION:Reminder
END:VALARM
END:VEVENT
END:VCALENDAR
