BEGIN:VCALENDAR
VERSION:2.0
CALSCALE:GREGORIAN
METHOD:PUBLISH
PRODID://TABS//470297
BEGIN:VEVENT
DTSTAMP:20260421T224635
VTIMEZONE:America/New_York
DTSTART:20261123T160000Z
DTEND:20261123T170000Z
UID:470297
SUMMARY:Events Committee
LOCATION:
DESCRIPTION:Events Committee\n\n11/23/26 11:00 AM EST\n - 11/23/26 12:00 PM EST\Description:\nThis committee meets bi-monthly on the fourth Monday of odd months at 11am Eastern/8am Pacific. 
X-ALT-DESC;FMTTYPE=text/html:Events Committee<br /><br />11/23/26 11:00 AM EST - 11/23/26 12:00 PM EST<br />Description:<br />This committee meets bi-monthly on the fourth Monday of odd months at 11am Eastern/8am Pacific.&nbsp;
PRIORITY:3
TRANSP:TRANSPARENT
BEGIN:VALARM
TRIGGER:-PT5M
ACTION:DISPLAY
DESCRIPTION:Reminder
END:VALARM
END:VEVENT
END:VCALENDAR
