BEGIN:VCALENDAR
VERSION:2.0
CALSCALE:GREGORIAN
METHOD:PUBLISH
PRODID://TABS//470296
BEGIN:VEVENT
DTSTAMP:20260421T213904
VTIMEZONE:America/New_York
DTSTART:20260928T150000Z
DTEND:20260928T160000Z
UID:470296
SUMMARY:Events Committee
LOCATION:
DESCRIPTION:Events Committee\n\n09/28/26 11:00 AM EST\n - 09/28/26 12:00 PM EST\Description:\nThis committee meets bi-monthly on the fourth Monday of odd months at 11am Eastern/8am Pacific. 
X-ALT-DESC;FMTTYPE=text/html:Events Committee<br /><br />09/28/26 11:00 AM EST - 09/28/26 12:00 PM EST<br />Description:<br />This committee meets bi-monthly on the fourth Monday of odd months at 11am Eastern/8am Pacific.&nbsp;
PRIORITY:3
TRANSP:TRANSPARENT
BEGIN:VALARM
TRIGGER:-PT5M
ACTION:DISPLAY
DESCRIPTION:Reminder
END:VALARM
END:VEVENT
END:VCALENDAR
