BEGIN:VCALENDAR
VERSION:2.0
CALSCALE:GREGORIAN
METHOD:PUBLISH
PRODID://TABS//470292
BEGIN:VEVENT
DTSTAMP:20260421T201328
VTIMEZONE:America/New_York
DTSTART:20260126T160000Z
DTEND:20260126T170000Z
UID:470292
SUMMARY:Events Committee
LOCATION:
DESCRIPTION:Events Committee\n\n01/26/26 11:00 AM EST\n - 01/26/26 12:00 PM EST\Description:\nThis committee meets bi-monthly on the fourth Monday of odd months at 11am Eastern/8am Pacific. 
X-ALT-DESC;FMTTYPE=text/html:Events Committee<br /><br />01/26/26 11:00 AM EST - 01/26/26 12:00 PM EST<br />Description:<br />This committee meets bi-monthly on the fourth Monday of odd months at 11am Eastern/8am Pacific.&nbsp;
PRIORITY:3
TRANSP:TRANSPARENT
BEGIN:VALARM
TRIGGER:-PT5M
ACTION:DISPLAY
DESCRIPTION:Reminder
END:VALARM
END:VEVENT
END:VCALENDAR
