BEGIN:VCALENDAR
VERSION:2.0
CALSCALE:GREGORIAN
METHOD:PUBLISH
PRODID://TABS//465109
BEGIN:VEVENT
DTSTAMP:20260421T185558
VTIMEZONE:America/New_York
DTSTART:20261228T190000Z
DTEND:20261228T200000Z
UID:465109
SUMMARY:Consultation Group for ABS Credentialed Leaders
LOCATION:
DESCRIPTION:Consultation Group for ABS Credentialed Leaders\n\n12/28/26 02:00 PM EST\n - 12/28/26 03:00 PM EST\Description:\nThis drop-in series is for ABS Credentialed Leaders and is sponsored by the History and Continuity Committee with Paul Scott as the facilitator. It generally meets the 4th Monday of even months. Attendance qualifies as a Maintenance of Credentialing activity. \n\nReminders and the Zoom link are available on the Credentialed Leaders message board. 
X-ALT-DESC;FMTTYPE=text/html:Consultation Group for ABS Credentialed Leaders<br /><br />12/28/26 02:00 PM EST - 12/28/26 03:00 PM EST<br />Description:<br />This drop-in series is for ABS Credentialed Leaders and is sponsored by the History and Continuity Committee with Paul Scott as the facilitator. It generally meets the 4th Monday of even months. Attendance qualifies as a Maintenance of Credentialing activity.&nbsp;<br />
<br />
Reminders and the Zoom link are available on the Credentialed Leaders message board.&nbsp;
PRIORITY:3
TRANSP:TRANSPARENT
BEGIN:VALARM
TRIGGER:-PT5M
ACTION:DISPLAY
DESCRIPTION:Reminder
END:VALARM
END:VEVENT
END:VCALENDAR
