BEGIN:VCALENDAR
VERSION:2.0
CALSCALE:GREGORIAN
METHOD:PUBLISH
PRODID://TABS//465101
BEGIN:VEVENT
DTSTAMP:20260422T021248
VTIMEZONE:America/New_York
DTSTART:20251027T180000Z
DTEND:20251027T190000Z
UID:465101
SUMMARY:Consultation Group for Credentialed Leaders with Paul Scott
LOCATION:
DESCRIPTION:Consultation Group for Credentialed Leaders with Paul Scott\n\n10/27/25 02:00 PM EST\n - 10/27/25 03:00 PM EST\Description:\nThis drop-in series is for ABS Credentialed Leaders and is sponsored by the History and Continuity Committee with Paul Scott as the facilitator. It generally meets the 4th Monday of even months. Attendance qualifies as a Maintenance of Credentialing activity. 
X-ALT-DESC;FMTTYPE=text/html:Consultation Group for Credentialed Leaders with Paul Scott<br /><br />10/27/25 02:00 PM EST - 10/27/25 03:00 PM EST<br />Description:<br />This drop-in series is for ABS Credentialed Leaders and is sponsored by the History and Continuity Committee with Paul Scott as the facilitator. It generally meets the 4th Monday of even months. Attendance qualifies as a Maintenance of Credentialing activity.&nbsp;
PRIORITY:3
TRANSP:TRANSPARENT
BEGIN:VALARM
TRIGGER:-PT5M
ACTION:DISPLAY
DESCRIPTION:Reminder
END:VALARM
END:VEVENT
END:VCALENDAR
