BEGIN:VCALENDAR
VERSION:2.0
CALSCALE:GREGORIAN
METHOD:PUBLISH
PRODID://TABS//465100
BEGIN:VEVENT
DTSTAMP:20260421T202639
VTIMEZONE:America/New_York
DTSTART:20250825T180000Z
DTEND:20250825T190000Z
UID:465100
SUMMARY:Consultation Group for Credentialed Leaders with Paul Scott
LOCATION:
DESCRIPTION:Consultation Group for Credentialed Leaders with Paul Scott\n\n08/25/25 02:00 PM EST\n - 08/25/25 03:00 PM EST\Description:\nThis drop-in series is for ABS Credentialed Leaders and is sponsored by the History and Continuity Committee with Paul Scott as the facilitator. It generally meets the 4th Monday of even months. Attendance qualifies as a Maintenance of Credentialing activity. 
X-ALT-DESC;FMTTYPE=text/html:Consultation Group for Credentialed Leaders with Paul Scott<br /><br />08/25/25 02:00 PM EST - 08/25/25 03:00 PM EST<br />Description:<br />This drop-in series is for ABS Credentialed Leaders and is sponsored by the History and Continuity Committee with Paul Scott as the facilitator. It generally meets the 4th Monday of even months. Attendance qualifies as a Maintenance of Credentialing activity.&nbsp;
PRIORITY:3
TRANSP:TRANSPARENT
BEGIN:VALARM
TRIGGER:-PT5M
ACTION:DISPLAY
DESCRIPTION:Reminder
END:VALARM
END:VEVENT
END:VCALENDAR
