BEGIN:VCALENDAR
VERSION:2.0
CALSCALE:GREGORIAN
METHOD:PUBLISH
PRODID://TABS//465097
BEGIN:VEVENT
DTSTAMP:20260421T214836
VTIMEZONE:America/New_York
DTSTART:20250224T190000Z
DTEND:20250224T200000Z
UID:465097
SUMMARY:Consultation Group for Credentialed Leaders with Paul Scott
LOCATION:
DESCRIPTION:Consultation Group for Credentialed Leaders with Paul Scott\n\n02/24/25 02:00 PM EST\n - 02/24/25 03:00 PM EST\Description:\nThis drop-in series is for ABS Credentialed Leaders and is sponsored by the History and Continuity Committee with Paul Scott as the facilitator. It generally meets the 4th Monday of even months. Attendance qualifies as a Maintenance of Credentialing activity. 
X-ALT-DESC;FMTTYPE=text/html:Consultation Group for Credentialed Leaders with Paul Scott<br /><br />02/24/25 02:00 PM EST - 02/24/25 03:00 PM EST<br />Description:<br />This drop-in series is for ABS Credentialed Leaders and is sponsored by the History and Continuity Committee with Paul Scott as the facilitator. It generally meets the 4th Monday of even months. Attendance qualifies as a Maintenance of Credentialing activity.&nbsp;
PRIORITY:3
TRANSP:TRANSPARENT
BEGIN:VALARM
TRIGGER:-PT5M
ACTION:DISPLAY
DESCRIPTION:Reminder
END:VALARM
END:VEVENT
END:VCALENDAR
