BEGIN:VCALENDAR
VERSION:2.0
CALSCALE:GREGORIAN
METHOD:PUBLISH
PRODID://TABS//465096
BEGIN:VEVENT
DTSTAMP:20260422T050109
VTIMEZONE:America/New_York
DTSTART:20251121T010000Z
DTEND:20251121T020000Z
UID:465096
SUMMARY:Consultation Group for Credentialed Leaders with Frank Dornfest
LOCATION:
DESCRIPTION:Consultation Group for Credentialed Leaders with Frank Dornfest\n\n11/20/25 08:00 PM EST\n - 11/20/25 09:00 PM EST\Description:\nThis drop-in series is for ABS Credentialed Leaders and is sponsored by the History and Continuity Committee with Frank Dornfest as the facilitator. It generally meets the 4th Thursday of odd months. Exception: November the fourth Thursday falls on Thanksgiving, so the meeting will take place on the third Thursday. Attendance qualifies as a Maintenance of Credentialing activity. 
X-ALT-DESC;FMTTYPE=text/html:Consultation Group for Credentialed Leaders with Frank Dornfest<br /><br />11/20/25 08:00 PM EST - 11/20/25 09:00 PM EST<br />Description:<br />This drop-in series is for ABS Credentialed Leaders and is sponsored by the History and Continuity Committee with Frank Dornfest as the facilitator. It generally meets the 4th Thursday of odd months. Exception: November the fourth Thursday falls on Thanksgiving, so the meeting will take place on the third Thursday. Attendance qualifies as a Maintenance of Credentialing activity.&nbsp;
PRIORITY:3
TRANSP:TRANSPARENT
BEGIN:VALARM
TRIGGER:-PT5M
ACTION:DISPLAY
DESCRIPTION:Reminder
END:VALARM
END:VEVENT
END:VCALENDAR
