BEGIN:VCALENDAR
VERSION:2.0
CALSCALE:GREGORIAN
METHOD:PUBLISH
PRODID://TABS//462654
BEGIN:VEVENT
DTSTAMP:20260421T205312
VTIMEZONE:America/New_York
DTSTART:20251120T210000Z
DTEND:20251120T220000Z
UID:462654
SUMMARY:Balint Leaders Drop-in Discussion
LOCATION:
DESCRIPTION:Balint Leaders Drop-in Discussion\n\n11/20/25 04:00 PM EST\n - 11/20/25 05:00 PM EST\Description:\nConnect with fellow Balint leaders for a facilitated, interactive conversation focused on the real-world challenges of Balint group leadership. Together, we’ll explore questions around group structure, growth, and development—within a supportive and confidential space.\n\nWho’s welcome? All non-credentialed leaders of Balint groups—whether new to the role or seasoned—are warmly invited.\nFacilitators: Shari Holland & Phil Phelps\nTime: November 20, 2025 04:00 PM Eastern Time (US and Canada)\nCost: $0\n\nThis drop-in consultation series is a free ABS member benefit. 
X-ALT-DESC;FMTTYPE=text/html:Balint Leaders Drop-in Discussion<br /><br />11/20/25 04:00 PM EST - 11/20/25 05:00 PM EST<br />Description:<br /><span style="font-family:tahoma,geneva,sans-serif"><span style="font-size:14px">Connect with fellow Balint leaders for a facilitated, interactive conversation focused on the real-world challenges of Balint group leadership. Together, we&rsquo;ll explore questions around group structure, growth, and development&mdash;within a supportive and confidential space.<br />
<br />
Who&rsquo;s welcome? All <strong>non-credentialed</strong> leaders of Balint groups&mdash;whether new to the role or seasoned&mdash;are warmly invited.<br />
Facilitators: Shari Holland &amp; Phil Phelps<br />
Time: November 20, 2025 04:00 PM Eastern Time (US and Canada)<br />
Cost: $0<br />
<br />
This drop-in consultation series is a free ABS member benefit.&nbsp;</span></span>
PRIORITY:3
TRANSP:TRANSPARENT
BEGIN:VALARM
TRIGGER:-PT5M
ACTION:DISPLAY
DESCRIPTION:Reminder
END:VALARM
END:VEVENT
END:VCALENDAR
