BEGIN:VCALENDAR
VERSION:2.0
CALSCALE:GREGORIAN
METHOD:PUBLISH
PRODID://TABS//440484
BEGIN:VEVENT
DTSTAMP:20260421T190329
VTIMEZONE:America/New_York
DTSTART:20250221T190000Z
DTEND:20250221T200000Z
UID:440484
SUMMARY:Balint Groups Online Committee
LOCATION:
DESCRIPTION:Balint Groups Online Committee\n\n02/21/25 02:00 PM EST\n - 02/21/25 03:00 PM EST\Description:\nThis committee typically meets monthly on the third Friday at 2pm Eastern/11am Pacific. 
X-ALT-DESC;FMTTYPE=text/html:Balint Groups Online Committee<br /><br />02/21/25 02:00 PM EST - 02/21/25 03:00 PM EST<br />Description:<br />This committee typically meets monthly on the third Friday at 2pm Eastern/11am Pacific.&nbsp;
PRIORITY:3
TRANSP:TRANSPARENT
BEGIN:VALARM
TRIGGER:-PT5M
ACTION:DISPLAY
DESCRIPTION:Reminder
END:VALARM
END:VEVENT
END:VCALENDAR
