BEGIN:VCALENDAR
VERSION:2.0
CALSCALE:GREGORIAN
METHOD:PUBLISH
PRODID://TABS//421279
BEGIN:VEVENT
DTSTAMP:20260421T191128
VTIMEZONE:America/New_York
DTSTART:20250825T190000Z
DTEND:20250825T200000Z
UID:421279
SUMMARY:Balint Group Leader Education Fellowship Committee
LOCATION:
DESCRIPTION:Balint Group Leader Education Fellowship Committee\n\n08/25/25 03:00 PM EST\n - 08/25/25 04:00 PM EST\Description:\nCommittee meets the fourth Monday of each month at 3pm Eastern.
X-ALT-DESC;FMTTYPE=text/html:Balint Group Leader Education Fellowship Committee<br /><br />08/25/25 03:00 PM EST - 08/25/25 04:00 PM EST<br />Description:<br />Committee meets the fourth Monday of each month at 3pm Eastern.
PRIORITY:3
TRANSP:TRANSPARENT
BEGIN:VALARM
TRIGGER:-PT5M
ACTION:DISPLAY
DESCRIPTION:Reminder
END:VALARM
END:VEVENT
END:VCALENDAR
