BEGIN:VCALENDAR
VERSION:2.0
CALSCALE:GREGORIAN
METHOD:PUBLISH
PRODID://TABS//402358
BEGIN:VEVENT
DTSTAMP:20260421T191256
VTIMEZONE:America/New_York
DTSTART:20251110T190000Z
DTEND:20251110T200000Z
UID:402358
SUMMARY:Council Meeting
LOCATION:
DESCRIPTION:Council Meeting\n\n11/10/25 02:00 PM EST\n - 11/10/25 03:00 PM EST\Description:\nABS Council meets the second Monday of each month at 2pm Eastern.
X-ALT-DESC;FMTTYPE=text/html:Council Meeting<br /><br />11/10/25 02:00 PM EST - 11/10/25 03:00 PM EST<br />Description:<br />ABS Council meets the second Monday of each month at 2pm Eastern.
PRIORITY:3
TRANSP:TRANSPARENT
BEGIN:VALARM
TRIGGER:-PT5M
ACTION:DISPLAY
DESCRIPTION:Reminder
END:VALARM
END:VEVENT
END:VCALENDAR
