BEGIN:VCALENDAR
VERSION:2.0
CALSCALE:GREGORIAN
METHOD:PUBLISH
PRODID://TABS//393650
BEGIN:VEVENT
DTSTAMP:20260422T040010
VTIMEZONE:America/New_York
DTSTART:20250324T180000Z
DTEND:20250324T190000Z
UID:393650
SUMMARY:History & Continuity Committee
LOCATION:
DESCRIPTION:History & Continuity Committee\n\n03/24/25 02:00 PM EST\n - 03/24/25 03:00 PM EST\Description:\nMeets the 4th Monday of ODD months at 2pm Eastern.
X-ALT-DESC;FMTTYPE=text/html:History & Continuity Committee<br /><br />03/24/25 02:00 PM EST - 03/24/25 03:00 PM EST<br />Description:<br />Meets the 4th Monday of ODD months at 2pm Eastern.
PRIORITY:3
TRANSP:TRANSPARENT
BEGIN:VALARM
TRIGGER:-PT5M
ACTION:DISPLAY
DESCRIPTION:Reminder
END:VALARM
END:VEVENT
END:VCALENDAR
