BEGIN:VCALENDAR
VERSION:2.0
CALSCALE:GREGORIAN
METHOD:PUBLISH
PRODID://TABS//393649
BEGIN:VEVENT
DTSTAMP:20260422T035930
VTIMEZONE:America/New_York
DTSTART:20250127T190000Z
DTEND:20250127T200000Z
UID:393649
SUMMARY:History & Continuity Committee
LOCATION:
DESCRIPTION:History & Continuity Committee\n\n01/27/25 02:00 PM EST\n - 01/27/25 03:00 PM EST\Description:\nMeets the 4th Monday of ODD months at 2pm Eastern.
X-ALT-DESC;FMTTYPE=text/html:History & Continuity Committee<br /><br />01/27/25 02:00 PM EST - 01/27/25 03:00 PM EST<br />Description:<br />Meets the 4th Monday of ODD months at 2pm Eastern.
PRIORITY:3
TRANSP:TRANSPARENT
BEGIN:VALARM
TRIGGER:-PT5M
ACTION:DISPLAY
DESCRIPTION:Reminder
END:VALARM
END:VEVENT
END:VCALENDAR
