BEGIN:VCALENDAR
VERSION:2.0
CALSCALE:GREGORIAN
METHOD:PUBLISH
PRODID://TABS//392934
BEGIN:VEVENT
DTSTAMP:20260421T191107
VTIMEZONE:America/New_York
DTSTART:20250808T190000Z
DTEND:20250808T200000Z
UID:392934
SUMMARY:Communications & Marketing Committee
LOCATION:
DESCRIPTION:Communications & Marketing Committee\n\n08/08/25 03:00 PM EST\n - 08/08/25 04:00 PM EST\Description:\nThis committee meets on the second Friday of even months at 3pm Eastern/noon Pacific.
X-ALT-DESC;FMTTYPE=text/html:Communications & Marketing Committee<br /><br />08/08/25 03:00 PM EST - 08/08/25 04:00 PM EST<br />Description:<br />This committee meets on the second Friday of even months at 3pm Eastern/noon Pacific.
PRIORITY:3
TRANSP:TRANSPARENT
BEGIN:VALARM
TRIGGER:-PT5M
ACTION:DISPLAY
DESCRIPTION:Reminder
END:VALARM
END:VEVENT
END:VCALENDAR
