BEGIN:VCALENDAR
VERSION:2.0
CALSCALE:GREGORIAN
METHOD:PUBLISH
PRODID://TABS//392931
BEGIN:VEVENT
DTSTAMP:20260421T191209
VTIMEZONE:America/New_York
DTSTART:20250214T200000Z
DTEND:20250214T210000Z
UID:392931
SUMMARY:Communications & Marketing Committee
LOCATION:
DESCRIPTION:Communications & Marketing Committee\n\n02/14/25 03:00 PM EST\n - 02/14/25 04:00 PM EST\Description:\nThis committee meets on the second Friday of even months at 3pm Eastern/noon Pacific.
X-ALT-DESC;FMTTYPE=text/html:Communications & Marketing Committee<br /><br />02/14/25 03:00 PM EST - 02/14/25 04:00 PM EST<br />Description:<br />This committee meets on the second Friday of even months at 3pm Eastern/noon Pacific.
PRIORITY:3
TRANSP:TRANSPARENT
BEGIN:VALARM
TRIGGER:-PT5M
ACTION:DISPLAY
DESCRIPTION:Reminder
END:VALARM
END:VEVENT
END:VCALENDAR
