BEGIN:VCALENDAR
VERSION:2.0
CALSCALE:GREGORIAN
METHOD:PUBLISH
PRODID://TABS//387578
BEGIN:VEVENT
DTSTAMP:20260422T051009
VTIMEZONE:America/New_York
DTSTART:20250307T190000Z
DTEND:20250307T200000Z
UID:387578
SUMMARY:Credentialing Coordinating Committee
LOCATION:
DESCRIPTION:Credentialing Coordinating Committee\n\n03/07/25 02:00 PM EST\n - 03/07/25 03:00 PM EST\Description:\nThe CCC meets monthly on the first Friday at 2pm Eastern.
X-ALT-DESC;FMTTYPE=text/html:Credentialing Coordinating Committee<br /><br />03/07/25 02:00 PM EST - 03/07/25 03:00 PM EST<br />Description:<br />The CCC meets monthly on the first Friday at 2pm Eastern.
PRIORITY:3
TRANSP:TRANSPARENT
BEGIN:VALARM
TRIGGER:-PT5M
ACTION:DISPLAY
DESCRIPTION:Reminder
END:VALARM
END:VEVENT
END:VCALENDAR
