BEGIN:VCALENDAR
VERSION:2.0
CALSCALE:GREGORIAN
METHOD:PUBLISH
PRODID://TABS//387455
BEGIN:VEVENT
DTSTAMP:20260421T202803
VTIMEZONE:America/New_York
DTSTART:20251215T190000Z
DTEND:20251215T200000Z
UID:387455
SUMMARY:Committee on Intensives Meeting
LOCATION:
DESCRIPTION:Committee on Intensives Meeting\n\n12/15/25 02:00 PM EST\n - 12/15/25 03:00 PM EST\Description:\nThis committee meets on the third Monday each month at 2pm Eastern.
X-ALT-DESC;FMTTYPE=text/html:Committee on Intensives Meeting<br /><br />12/15/25 02:00 PM EST - 12/15/25 03:00 PM EST<br />Description:<br />This committee meets on the third Monday each month at 2pm Eastern.
PRIORITY:3
TRANSP:TRANSPARENT
BEGIN:VALARM
TRIGGER:-PT5M
ACTION:DISPLAY
DESCRIPTION:Reminder
END:VALARM
END:VEVENT
END:VCALENDAR
