BEGIN:VCALENDAR
VERSION:2.0
CALSCALE:GREGORIAN
METHOD:PUBLISH
PRODID://TABS//387444
BEGIN:VEVENT
DTSTAMP:20260422T021218
VTIMEZONE:America/New_York
DTSTART:20250120T190000Z
DTEND:20250120T200000Z
UID:387444
SUMMARY:Committee on Intensives Meeting
LOCATION:
DESCRIPTION:Committee on Intensives Meeting\n\n01/20/25 02:00 PM EST\n - 01/20/25 03:00 PM EST\Description:\nThis committee meets on the third Monday each month at 2pm Eastern.
X-ALT-DESC;FMTTYPE=text/html:Committee on Intensives Meeting<br /><br />01/20/25 02:00 PM EST - 01/20/25 03:00 PM EST<br />Description:<br />This committee meets on the third Monday each month at 2pm Eastern.
PRIORITY:3
TRANSP:TRANSPARENT
BEGIN:VALARM
TRIGGER:-PT5M
ACTION:DISPLAY
DESCRIPTION:Reminder
END:VALARM
END:VEVENT
END:VCALENDAR
